BEGIN:VCALENDAR
VERSION:2.0
PRODID:-//ExpressionEngine Easy iCalendar plugin//NONSGML v2.0.0//EN
X-WR-TIMEZONE:America/Chicago
X-WR-CALNAME:Upcoming Auctions
BEGIN:VEVENT
UID:118494
DTSTAMP:20240406T203000
DTSTART:20240406T203000
DTEND:20240414T200000
SUMMARY:Nurse & Medical Training Equipment - Omaha\, NE
LOCATION:1528 N Saddle Creek Rd\, Omaha\, NE 68104\, US
DESCRIPTION:Nurse & Medical Training Equipment - Omaha\, NE CPR Manikins\,
  Dummies and Training Devices\, Medical Training Charts\, Medi
 cal Cart and More Local Pickup at the Auction Mill in Omaha\,
  NE  Bidding Online Now\, Bids Close Sunday April 14th at 8p
 m. Local Pickup at the Auction Mill Warehouse.  Bidding Ope
 n Now\, Bids Close Sunday April 14th Beginning at 8pm. Local 
 Pickup and Preview at the Auction Mill Warehouse at 1528 N S
 addle Creek Rd Omaha\, NE 68104. Preview Friday April 12th fr
 om 1pm to 2pm at the Auction Mill Warehouse at 1528 N Saddle
  Creek Rd Omaha\, NE 68104.
URL:https://www.theauctionmill.com/auctions/detail/bw118494
SEQUENCE:1
END:VEVENT
END:VCALENDAR