BEGIN:VCALENDAR
VERSION:2.0
PRODID:-//ExpressionEngine Easy iCalendar plugin//NONSGML v2.0.1//EN
X-WR-TIMEZONE:America/Chicago
X-WR-CALNAME:Upcoming Auctions
BEGIN:VEVENT
UID:118714
DTSTAMP:20240410T153200
DTSTART:20240410T153200
DTEND:20240512T190000
SUMMARY:Jim Longwell & Family Retirement & Relocation Timed Auction 
 w/ 1969 Ford Mustang
LOCATION:4018 N. 84th St\, Omaha\, NE 68134\, US
DESCRIPTION:Jim Longwell & Family Retirement & Relocation Timed Auction 
 w/ 1969 Ford Mustang 1969 Ford Mustang 2-Door Hardtop Coupe\,
  Purchased in 1970 When Car Was 1 Year New.  Also a 1969 Pa
 rts Ford Mustang\, Large Group of Tools\, Shop Equipment\, Lawn
  & Garden Items\, Some Furniture & Antiques. Bidding Open Now
 \, Bids Close Sunday May 12th. Local Pickup and Public Previe
 w Onsite in the Keystone Neighborhood of Omaha. PUBLIC PREVI
 EW: Friday May 10th 3pm to 4pm at 4018 N 84th St Omaha\, NE 6
 8134.
URL:https://www.theauctionmill.com/auctions/detail/bw118714
SEQUENCE:1
END:VEVENT
END:VCALENDAR