BEGIN:VCALENDAR
VERSION:2.0
PRODID:-//ExpressionEngine Easy iCalendar plugin//NONSGML v2.0.1//EN
X-WR-TIMEZONE:America/Chicago
X-WR-CALNAME:Upcoming Auctions
BEGIN:VEVENT
UID:119318
DTSTAMP:20240420T103300
DTSTART:20240420T103300
DTEND:20240512T190000
SUMMARY:Omaha Coin-Laundry / Laundromat Liquidation One - Center Str
 eet May 12th Online
LOCATION:3717 Center St\, Omaha\, NE 68105\, US
DESCRIPTION:Commercial Coin-Laundry / Laundromat Liquidation - Omaha\, NE
  Owner is Retooling this Store w/ All New Equipment. All Cur
 rent Equipment Works and is Well-Maintained Regularly by a S
 taffed Laundry Mechanic. All Speed Queen Commercial Washers 
 and Dryers - 20lb\, 27lb\, 30lb\, 35lb\, 40lb\, 50lb & 60lb Speed
  Queen Washers\, 30lb Single and Double Pocket Commercial Dry
 ers\, Dollar Bill Coin Changer\, Soap Dispenser\, Seating and B
 askets and More. This is a well-run professional operation. 
  We welcome anyone who wishes to preview and inspect the eq
 uipment to visit the location any day from 8am to 9pm. Biddi
 ng Open Now\, Bids Begin to Close Sunday May 12th at 7pm This
  equipment is located at 3717 Center St Omaha\, NE 68105. Fee
 l free to email or text Tom w/ any questions at 402.690.8666
  or tom@theauctionmill.com Location for Preview & Pickup: 37
 17 Center St Omaha\, NE 68105. Public Preview: We welcome any
 one who wishes to preview and inspect the equipment to visit
  the location any day from 8am to 9pm\, or by Appointment. 37
 17 Center St Omaha\, NE 68105. Pickup at Center Street Laundr
 y located at 3717 Center St Omaha\, NE 68105. Pickup by Appoi
 ntment on Tuesday and Wednesday May 14th & 15th or for a Fee
 \, Equipment will be removed for you on Thursday May 16th and
  Placed Outside in the Parking Lot.  You will be responsibl
 e for removing and loading your equipment.   All Equipment 
 Must Be Picked Up by End of Day Thursday May 16th. Any equip
 ment not picked up by Thursday May 16th Will Be Charged a Fe
 e for Removal and a Fee of $20/Day Storage Until Picked Up. 
   **Please Email Ahead of Time if You Believe You'll Have I
 ssues Picking Up on These Three Days.** CLICK THE "VIEW AUCT
 ION" TAB FOR ALL THE IMAGES AND DESCRIPTIONS ALONG W/ A LINK
  TO BID ONLINE NOW!
URL:https://www.theauctionmill.com/auctions/detail/bw119318
SEQUENCE:1
END:VEVENT
END:VCALENDAR