BEGIN:VCALENDAR
VERSION:2.0
PRODID:-//ExpressionEngine Easy iCalendar plugin//NONSGML v2.0.0//EN
X-WR-TIMEZONE:America/Chicago
X-WR-CALNAME:Upcoming Auctions
BEGIN:VEVENT
UID:122031
DTSTAMP:20240607T120800
DTSTART:20240607T120800
DTEND:20240623T180000
SUMMARY:Omaha Public Schools Surplus Auction
LOCATION:4224 N. 30th St\, Omaha\, NE 68111\, US
DESCRIPTION:Omaha Public Schools Surplus Auction 15 School Buses\, 8 Box 
 Trucks w/ Lifts\, 1 Bread Truck\, Machine Shop\, Lawn & Garden\,
  Lawn Mowers\, Side by Side\, Band Instruments\, Commercial Kit
 chen Equipment\, Office Furniture\, Promethean Smart Board HD 
 TVs\, Forklifts\, Conference Tables\, Large Quantity of New Ink
  and Tonor\, Insulated Holding Cabinets\, Mobile Salad Bars & 
 Buffets\, Steam Tables\, Mobile Counters\, Ovens and More Click
  - View Auction for All Descriptions\, Photographs and a Link
  to Bid Online Now Bidding Open Sunday June 9th\, Bids Close 
 on Sunday June 23rd at 6pm. Local Pickup in Omaha on Wednesd
 ay & Thursday June 26th & 27th. Public Preview: Friday June 
 21st - 11am to 12pm. Â Please Read Terms & Conditions for Mo
 re Information. 4224 N. 30th St Omaha\, NE 68111 - Located On
 e Block South of 30th & Ames St in Omaha. Building is on the
  West Side of 30th St Next to the Metro Bus Station. Â  TERM
 S & CONDITIONS: Everything is Sold As-Is Without Warranty or
  Guarantee. Please attend the preview if you're concerned or
  interested in the true condition of any item on the auction
 . ITEM PICKUP: IF YOU CAN'T PICKUP ON WED. OR THURS. JUNE 26
 th & 27th - PLEASE SEND SOMEONE TO PICKUP FOR YOU. IF YOU DO
  NOT MAKE ARRANGEMENTS FOR PICKUP ON WED OR THURS JUNE 26th 
 or 27th\, THERE IS A MINIMUM FEE OF $25.00 UP TO $100.00 TO P
 ICKUP ON ANOTHER DATE. IMPORTANT STUFF: LOCATION (Preview & 
 Pickup):Â  4224 N. 30th St Omaha\, NE 68111 Location of Buses
  (Preview & Pickup): 4514 S. 67th St Omaha\, NE 68117 (1 Bloc
 k N. of 67th & L S). Public Preview on Friday June 21st from
  11am to Noon at 4224 N. 30th St Omaha\, NE 68111 (Drive arou
 nd to the West Side of the Building). To Preview Buses\, Visi
 t 4514 S. 67th St Omaha\, NE 68117 from 1pm to 2pm (Buses on 
 East Side of Building). Local Pickup by Appointment Wed & Th
 urs June 26th & 27th at 4224 N. 30th St 68111 from 9am to 4:
 30pm (Pickup Buses at 4514 S. 67th St Omaha\, NE 68117 by App
 ointment) (1 Block N. of 67th & L S). Driving Directions: 42
 24 N. 30th St Omaha\, NE 68111 - Located One Block South of 3
 0th & Ames St in Omaha. Building is on the West Side of 30th
  St Next to the Metro Bus Station. QUESTIONS: Text: 402.690.
 8666 or Email: info@theauctionmill.com PAYMENT: At the concl
 usion of the auction\, you'll reveive an invoice. Â We will n
 ot run your credit card on file. Â You may pay at at the pic
 kup site on Friday. Â Out of state buyers card on file will 
 be billed a few days after the auction closes prior to shipm
 ent prep. 3% Discount for Cash or Approved Check. QUESTIONS:
  Text: 402.690.8666 or Email: info@theauctionmill.com Â  Fee
 s: 19% Buyers Premium Applies to All Purchases\, 3% Discount 
 to Cash and Approved Check Payment\, Tax Applied to All Requi
 red Taxable Merchandise Unless You Have a Tax Exempt Form 13
  on File w/ Proxibid or in Your Proxibid Account Settings. Â
  Premium Example: Hammer Price: $100 = $119.00 After Premium
  Applied - Taxed on Both the Hammer Price and Premium When C
 alculated. Premium on the Mustang is just 10%. SHIPPING OR F
 REIGHT:Â  If you require shipping or freight\, please email i
 nfo@theauctionmill.com or Text: 402.885.4916. CONTACT INFO T
 O NOTIFY OF PAYMENT INTENTIONS: Text: 402.690.8666 or Email:
  info@theauctionmill.comÂ 
URL:https://www.theauctionmill.com/auctions/detail/bw122031
SEQUENCE:1
END:VEVENT
END:VCALENDAR