BEGIN:VCALENDAR
VERSION:2.0
PRODID:-//ExpressionEngine Easy iCalendar plugin//NONSGML v2.0.1//EN
X-WR-TIMEZONE:America/Chicago
X-WR-CALNAME:Upcoming Auctions
BEGIN:VEVENT
UID:143361
DTSTAMP:20250702T100900
DTSTART:20250702T100900
DTEND:20250810T190000
SUMMARY:High-Quality\, Late-Model Restaurant Equipment Auction
LOCATION:1528 N Saddle Creek Road\, Omaha\, NE 68104\, US
DESCRIPTION:High-Quality\, Late-Model Restaurant Equipment Auction All As
 sets Located at the Auction Mill Warehouse for Pickup and Pr
 eview Bidding Open Now\, Bids Close Sunday\, August 10th at 7p
 m Please Download the Auction Mill app for Free in the Googl
 e Play Store and Apple App Store 15 Like New Electro-Freeze 
 Ice Cream Machines\, Commercial Refrigerators\, Steam Kettle\, 
 Smallwares\, Sealed Alcohol and Liquor and Much More
URL:https://www.theauctionmill.com/auctions/detail/bw143361
SEQUENCE:1
END:VEVENT
END:VCALENDAR