BEGIN:VCALENDAR
VERSION:2.0
PRODID:-//ExpressionEngine Easy iCalendar plugin//NONSGML v2.0.1//EN
X-WR-TIMEZONE:America/Chicago
X-WR-CALNAME:Upcoming Auctions
BEGIN:VEVENT
UID:143590
DTSTAMP:20250707T220800
DTSTART:20250707T220800
DTEND:20250723T190000
SUMMARY:Industrial and Commercial Food Service Sales\, Service and Re
 pair Shop Liquidation
LOCATION:8505 N. 29th St\, Omaha\, NE 68112\, US
DESCRIPTION:Industrial and Commercial Food Service Sales\, Service and Re
 pair Shop Liquidation Bidding Open Now\, Bids Close on Wednes
 day\, July 23rd at 7pm Local Pickup w/ Loading Assistance on 
 Friday\, July 25th\, by Appointment from 9am to 4pm Pickup Loc
 ation: 8505 N. 29th St\, Omaha\, NE 68112 - Preview by Appoint
 ment Commercial Smokehouse Smokers\, Meat Slicers\, Commercial
  Sausage Stuffing Equipment\, Patty Makers\, Material Handling
  Equipment\, Shelving\, Industrial Work Tables\, Mezzanine Stee
 l Structure\, Mig Welder w/ Wire Feed Attachment\, Shop Equipm
 ent\, Tools\, Resurfacers and Grinders\, Snow Blower\, Office Fu
 rniture\, Cutting Torch Outfit and More
URL:https://www.theauctionmill.com/auctions/detail/bw143590
SEQUENCE:1
END:VEVENT
END:VCALENDAR