BEGIN:VCALENDAR
VERSION:2.0
PRODID:-//ExpressionEngine Easy iCalendar plugin//NONSGML v2.0.0//EN
X-WR-TIMEZONE:America/Chicago
X-WR-CALNAME:Upcoming Auctions
BEGIN:VEVENT
UID:145220
DTSTAMP:20250729T193000
DTSTART:20250729T193000
DTEND:20250817T190000
SUMMARY:Luxury Omaha AirBNB Liquidation
LOCATION:711 N. 89th Plaza\, Omaha\, NE 68114\, US
DESCRIPTION:Luxury Omaha Air BNB Liquidation The owner/investors are sel
 ling this Air BNB and selling all the contents at this publi
 c timed online auction Fully Furnished 4\,000sf West Omaha ho
 me\, clean and modern furniture with a slant on mid-century m
 odern design\, electronics\, arcade game\, modern smart TVs\, pa
 tio furniture\, household goods\, decoratives\, shop and garage
  items\, entertainment and more! Bidding is open now\, bids be
 gin to close on Sunday\, August 17th at 7pm
URL:https://www.theauctionmill.com/auctions/detail/bw145220
SEQUENCE:1
END:VEVENT
END:VCALENDAR