BEGIN:VCALENDAR
VERSION:2.0
PRODID:-//ExpressionEngine Easy iCalendar plugin//NONSGML v2.0.0//EN
X-WR-TIMEZONE:America/Chicago
X-WR-CALNAME:Upcoming Auctions
BEGIN:VEVENT
UID:145901
DTSTAMP:20251117T081000
DTSTART:20251117T081000
DTEND:20251214T200000
SUMMARY:Vintage Model Train Collection
LOCATION:1528 N Saddle Creek Rd \, Omaha\, NE 68104\, US
DESCRIPTION:Vintage HO Scale Model Train & Accessories Collection Timed 
 Auction 100 Lots of Collectible Model Trains\, Train Cars and
  Accessories Bidding Open Now\, Bids Close on Sunday\, Decembe
 r 14th - Local Pickup and Shipping Prior to the Christmas Ho
 liday Local Pickup and Preview at the Auction Mill Warehouse
  - 1528 N Saddle Creek Rd\, Omaha\, NE 68104
URL:https://www.theauctionmill.com/auctions/detail/bw145901
SEQUENCE:1
END:VEVENT
END:VCALENDAR