BEGIN:VCALENDAR
VERSION:2.0
PRODID:-//ExpressionEngine Easy iCalendar plugin//NONSGML v2.0.0//EN
X-WR-TIMEZONE:America/Chicago
X-WR-CALNAME:Upcoming Auctions
BEGIN:VEVENT
UID:146174
DTSTAMP:20250811T091600
DTSTART:20250811T091600
DTEND:20250825T190000
SUMMARY:Wholesale Reseller Bank Ordered Liquidation #2
LOCATION:194 Colfax St\, Blair\, NE 68008\, US
DESCRIPTION:Wholesale New Products Reseller Bankruptcy Liquidation Aucti
 on #1 We will be conducting one to two auctions per week for
  this client all August and September until the warehouse d
 istribution center is empty. Bidding is Open Now\, Bids Close
  Tuesday\, August 24th\, at 7pm Local Pickup in Blair\, NE and 
 Shipping Managed by the UPS Store in Omaha\, NE Pickup Locati
 on: 194 Colfax St\, Blair\, NE 68008  Notes: We have been gra
 nted 60 days to liquidate the entire warehouse contents for 
 this client. Their focus was obtaining new products at a dis
 counted price and reselling the assets on Amazon's Platform.
   This company has ceased operations and has been ordered t
 o sell everything regardless of price! Shipper Info: The UPS
  Store W. Dodge Rd - store1597@theupsstore.com or 402.397.01
 00
URL:https://www.theauctionmill.com/auctions/detail/bw146174
SEQUENCE:1
END:VEVENT
END:VCALENDAR