BEGIN:VCALENDAR
VERSION:2.0
PRODID:-//ExpressionEngine Easy iCalendar plugin//NONSGML v2.0.1//EN
X-WR-TIMEZONE:America/Chicago
X-WR-CALNAME:Upcoming Auctions
BEGIN:VEVENT
UID:146611
DTSTAMP:20250818T083700
DTSTART:20250818T083700
DTEND:20250914T183000
SUMMARY:Commercial Electrical Supplies\, Tools & Coca-Cola Vending Ma
 chine
LOCATION:12414 Sky Park Cir\, Omaha\, NE 68137\, US
DESCRIPTION:Recently Retired Electrician Service Truck Supplies\, Hardwar
 e\, Tools\, Equipment and a Vintage 1950's & 60's Coca-Cola We
 stinghouse Soda Vending Machine Bulk Supplies Auction of 20+
  Years of Electrical Contracting - Loads of New and Like New
  Parts\, Hardware\, Tools and Supplies. Classic Electric c. 20
 02 to 2024\, retired electrician\, licensed since 1996. We rec
 ently sold Jim's service truck\, now we are offering all of t
 he supplies from the service truck. We will have one more au
 ction which will include more tools\, supplies and antiques a
 nd household items.
URL:https://www.theauctionmill.com/auctions/detail/bw146611
SEQUENCE:1
END:VEVENT
END:VCALENDAR