BEGIN:VCALENDAR
VERSION:2.0
PRODID:-//ExpressionEngine Easy iCalendar plugin//NONSGML v2.0.0//EN
X-WR-TIMEZONE:America/Chicago
X-WR-CALNAME:Upcoming Auctions
BEGIN:VEVENT
UID:147021
DTSTAMP:20250824T102500
DTSTART:20250824T102500
DTEND:20250909T190000
SUMMARY:Wholesale Reseller Bank Ordered Liquidation #4
LOCATION:194 Colfax St\, Blair\, NE 68008\, US
DESCRIPTION:Wholesale Reseller Bank Ordered Liquidation #4 80+ Lots of B
 rand New Merchandise\, Fujifilm Instant Cameras\, Toys\, Shoes\,
  School Supplies\, Backpacks\, Underdesk Ellipticals\, Nerf Gun
 s and More Bidding Open Now\, Bids Close this Tuesday\, Septem
 ber 9th - Pickup in Blair\, NE on Thursday & Friday\, Septembe
 r 11th & 12th
URL:https://www.theauctionmill.com/auctions/detail/bw147021
SEQUENCE:1
END:VEVENT
END:VCALENDAR