BEGIN:VCALENDAR
VERSION:2.0
PRODID:-//ExpressionEngine Easy iCalendar plugin//NONSGML v2.0.1//EN
X-WR-TIMEZONE:America/Chicago
X-WR-CALNAME:Upcoming Auctions
BEGIN:VEVENT
UID:148890
DTSTAMP:20250923T100600
DTSTART:20250923T100600
DTEND:20251102T200000
SUMMARY:Commercial Coin-Laundry Washers & High-Quality Tools
LOCATION:1528 N. Saddle Creek Rd\, Omaha\, NE 68104\, US
DESCRIPTION:Commercial Laundromat Washers & High-Quality Tools Small Bat
 ch Auction of High-Quality Speed Queen Commercial Coin-Laund
 ry Front-Load Washers\, Mini-Split\, Group w/ Some Name-Brand 
 and Popular Tools and Shop Equipment. 18lb\, 20lb\, 30lb\, 40lb
 \, 50lb & 60lb Commercial Front-Load Coin-Op Washers Bidding 
 Open Now\, Bids Close on Sunday\, November 2nd at 9pm CST  
URL:https://www.theauctionmill.com/auctions/detail/bw148890
SEQUENCE:1
END:VEVENT
END:VCALENDAR