BEGIN:VCALENDAR
VERSION:2.0
PRODID:-//ExpressionEngine Easy iCalendar plugin//NONSGML v2.0.0//EN
X-WR-TIMEZONE:America/Chicago
X-WR-CALNAME:Upcoming Auctions
BEGIN:VEVENT
UID:160737
DTSTAMP:20260419T120000
DTSTART:20260419T120000
DTEND:20260503T190000
SUMMARY:High-Quality Restaurant & Catering Assets Omaha
LOCATION:{location}
DESCRIPTION:High-Quality Restaurant & Catering Assets Omaha 200+ Lots of
  Clean\, Late-Model Restaurant Equipment\, Fixtures\, Furniture
  and Supplies\, Including Assets from Offut Air Force Base Ca
 feteria Food Management Contractor\, Three Local Omaha Restau
 rants and Catering Companies. All Assets Are Located at the 
 Auction Mill Warehouse and Available to Public Preview By Ap
 pointment. Highlights include: Southern Pride Pull-Behind BB
 Q Smoker\, Modern Clover\, POS-X and Samsung Point of Sale Sys
 tems and Self-Serve Kiosks\, Great Furniture\, TRUE Reach-In R
 efrigerators\, Freezers\, Worktop Refrigerators\, Glass Door Ba
 ck Bar Refrigerators\, Glass Door Refrigerator Merchandisers\,
  Great  Merchandiser Units and Shelving\, Smallwares\, Cateri
 ng Equipment and Much More.
URL:https://www.theauctionmill.com/auctions/detail/bw160737
SEQUENCE:1
END:VEVENT
END:VCALENDAR