BEGIN:VCALENDAR
VERSION:2.0
PRODID:-//ExpressionEngine Easy iCalendar plugin//NONSGML v2.0.0//EN
X-WR-TIMEZONE:America/Chicago
X-WR-CALNAME:Upcoming Auctions
BEGIN:VEVENT
UID:160826
DTSTAMP:20260421T020000
DTSTART:20260421T020000
DTEND:20260517T190000
SUMMARY:Collector Coins\, Silver\, Gold and Ancient Coins
LOCATION:1528 N Saddle Creek Road\, Omaha\, NE 68104-5065\, US
DESCRIPTION:Collector Coins\, Silver\, Gold and Ancient Coins Several Amer
 ican Eagle 1/2oz $25 Gold Pieces\, Rare Collection of Ancient
  Greek\, Roman\, Parthian Coins Dating Back to 400 B.C.\, Sever
 al Series of One Troy Ounce Commemorative Coins from Star Tr
 ek\, Pearl Harbor\, Reagan\, American Eagles\, Military Missions
  and Wars\, Historical Related Silver Dollars\, Bullion Gold a
 nd Silver\, 10oz Silver Bullion Bars\, Morgan & Peace Dollars\,
  Bitcoin\, 2018 Baseball Treasure MLB Commemorative Player Co
 ins\, and More Local Pick Up in Omaha\, Nebraska Payment Accep
 ted: Cash\, Certified Check\, Cashiers Check\, Money Order\, Ban
 k Wire\, ACH - No Credit Card or Personal Check Payment. Nati
 onwide Shipping Available
URL:https://www.theauctionmill.com/auctions/detail/bw160826
SEQUENCE:1
END:VEVENT
END:VCALENDAR