BEGIN:VCALENDAR
VERSION:2.0
PRODID:-//ExpressionEngine Easy iCalendar plugin//NONSGML v2.0.1//EN
X-WR-TIMEZONE:America/Chicago
X-WR-CALNAME:Upcoming Auctions
BEGIN:VEVENT
UID:160926
DTSTAMP:20260426T000500
DTSTART:20260426T000500
DTEND:20260510T190000
SUMMARY:Omaha Public Schools Surplus Auction XVII
LOCATION:4224 N. 30th St\, Omaha\, NE 68111\, US
DESCRIPTION:Omaha Public Schools Surplus Auction XVII Bidding Opens Sund
 ay\, April 26th Bids Close on Sunday\, May 10th Public Preview
  - Thursday\, May 7th from 1pm to 2pm Local Pick Up: Thursday
  & Friday\, May 13th & 14th by Appointment Assets Include\; Re
 alityWorks Live It - Learn It Real Care Babies\, Yale Forklif
 t\, Mechanic Shop Equipment\, Snap-On Virtual Plane Measuremen
 t Wheel Balancer\, Eagle Star Tire Changer Machine\, Coats 405
 0A Tire Changer Machine\, Ranger Balancer DST2420\, Peck\, Sto
 w & Wilcox 137-G Food (Stomp) Shear\, Bulk Lots of File Cabin
 ets\, Metal Bookshelves\, Folding Cafeteria Tables\, School Des
 ks\, Chairs\, Tables and Work Stations\, Daycare Facility Furni
 ture\, Sewing Machines\, Media and Charging Carts\, Convection 
 Ovens\, John Deere Riding Lawn Tractor\, Untitled Motorcycles\,
  Pre-Owned Commercial Cleaning Machines and More
URL:https://www.theauctionmill.com/auctions/detail/bw160926
SEQUENCE:1
END:VEVENT
END:VCALENDAR